BEGIN:VCALENDAR
VERSION:2.0
PRODID:-//NC State | Kappa Xi Nupes - ECPv6.15.20//NONSGML v1.0//EN
CALSCALE:GREGORIAN
METHOD:PUBLISH
X-WR-CALNAME:NC State | Kappa Xi Nupes
X-ORIGINAL-URL:https://kxinupes.org
X-WR-CALDESC:Events for NC State | Kappa Xi Nupes
REFRESH-INTERVAL;VALUE=DURATION:PT1H
X-Robots-Tag:noindex
X-PUBLISHED-TTL:PT1H
BEGIN:VTIMEZONE
TZID:UTC
BEGIN:STANDARD
TZOFFSETFROM:+0000
TZOFFSETTO:+0000
TZNAME:UTC
DTSTART:20180101T000000
END:STANDARD
END:VTIMEZONE
BEGIN:VEVENT
DTSTART;VALUE=DATE:20190411
DTEND;VALUE=DATE:20190415
DTSTAMP:20260424T190159
CREATED:20190409T200202Z
LAST-MODIFIED:20190409T200202Z
UID:158-1554940800-1555286399@kxinupes.org
SUMMARY:Pan Afrikan Weekend
DESCRIPTION:Pan-Afrikan weekend is known as the African American homecoming on the campus of NCSU. This is an occasion for all alumni to come back to the campus for an array of afrocentric events on campus. Please contact us for specific Kappa Xi events within the Pan African Weekend
URL:https://kxinupes.org/event/pan-afrikan-weekend/
LOCATION:North Carolina State University\, Raleigh\, 27695\, United States
CATEGORIES:Community Service,Entertainment,Social Event
ATTACH;FMTTYPE=image/jpeg:https://kxinupes.org/wp-content/uploads/2019/04/PANAF19LOGO.jpg
END:VEVENT
END:VCALENDAR